BEGIN:VCALENDAR
VERSION:2.0
CALSCALE:GREGORIAN
PRODID:-//MyApp//Calendar 1.0//EN
BEGIN:VEVENT
METHOD:PUBLISH
UID:10126@regionalniportaly.cz
DTSTAMP:20260421T121649Z
DTSTART;VALUE=DATE:20170428
DTEND;VALUE=DATE:20170429
SUMMARY:Čarodějnice v Pohořelicích
DESCRIPTION:28.4. Čarodějnice - začátek v 16.00 hod\, pořádá SVČ Pohořelice
LOCATION:Pohořelice
END:VEVENT
END:VCALENDAR