BEGIN:VCALENDAR
VERSION:2.0
CALSCALE:GREGORIAN
PRODID:-//MyApp//Calendar 1.0//EN
BEGIN:VEVENT
METHOD:PUBLISH
UID:17171@regionalniportaly.cz
DTSTAMP:20260425T135642Z
DTSTART;VALUE=DATE:20181028
DTEND;VALUE=DATE:20181029
SUMMARY:Dny otevřených dveří archivu
DESCRIPTION:V pátek 26.10.2018  od 10.00 do 18.00\nV sobotu 27.10.2018  od 10.00 do 14.00\n\nStátní okresní archiv Brno – venkov v Rajhradě srdečně zve občany všech obcí okresu na DNY OTEVŘENÝCH DVEŘÍ ARCHIVU k příležitosti  100 let od zřízení Československé republiky.\n\nČeká Vás unikátní výstava záznamů z kronik obcí a měst okresu o roku 1918\, dobové fotografie prezidentů T. G. Masaryka\, E. Beneše a komentované prohlídky archivu za přítomnosti českých legionářů.\n\nVstup zdarma
LOCATION:Rajhrad
END:VEVENT
END:VCALENDAR