BEGIN:VCALENDAR
VERSION:2.0
CALSCALE:GREGORIAN
PRODID:-//MyApp//Calendar 1.0//EN
BEGIN:VEVENT
METHOD:PUBLISH
UID:17324@regionalniportaly.cz
DTSTAMP:20260425T120921Z
DTSTART;VALUE=DATE:20181216
DTEND;VALUE=DATE:20181217
SUMMARY:Vánoční výstava  „Vánoce u nás doma“
DESCRIPTION:12. 12. - 16. 12. 2018\, Střední zahradnická škola Rajhrad\n\nMilí návštěvníci\, přátelé\, rodiče\, žáci\, zveme Vás na naši tradiční Vánoční výstavu\, letos s tématem „Vánoce u nás doma“.
LOCATION:Rajhrad
END:VEVENT
END:VCALENDAR