BEGIN:VCALENDAR
VERSION:2.0
CALSCALE:GREGORIAN
PRODID:-//MyApp//Calendar 1.0//EN
BEGIN:VEVENT
METHOD:PUBLISH
UID:17478@regionalniportaly.cz
DTSTAMP:20260425T135350Z
DTSTART;VALUE=DATE:20181028
DTEND;VALUE=DATE:20181029
SUMMARY:100 let 100 židlí
DESCRIPTION:9:30 - 18:30 hod. \n\nPřipomeňte si slavností výročí 28. října v Židlochovicích
LOCATION:Židlochovice
END:VEVENT
END:VCALENDAR