BEGIN:VCALENDAR
VERSION:2.0
CALSCALE:GREGORIAN
PRODID:-//MyApp//Calendar 1.0//EN
BEGIN:VEVENT
METHOD:PUBLISH
UID:17482@regionalniportaly.cz
DTSTAMP:20260425T160344Z
DTSTART;VALUE=DATE:20181125
DTEND;VALUE=DATE:20181126
SUMMARY:Blučinské kreace
DESCRIPTION:Blučinské kreace je výstava tvůrců z Blučiny a širokého okolí.\n\nMalba\, fotografie\, design\, dřevořezba\, aranžérství\, háčkování\, kovářství\, a další – to vše pod jednou střechou spolu s vínem a příjemnou hudbou.\n\nVstupné dobrovolné\n\nVystavují:\nVítězslav Ruber\, Marcela Jaklová\, Karel Válka\, Sára Káňová\, Klára Böhmová\, Jan Kelbl\, Michaela Vaníčková\, Marek Jedlička\, Tomáš Valnoha\, Markéta Ketmanová\, Kateřina Navrátilová\, David Weinhauer\, Petra Šťastná\, Hana Šťastná\, Markéta Vašíčková\, Luba Mrkvica\, Petr Soudek\n\nSobotní večer ve vinárně Na Pódiu:\n\nPovídaní:\nSpisovatelka Adéla Hodinská Knapová\n\nHudba:\nZbyněk Dovrtěl\nZakaž Hvězdu\na další… stay tuned\, možná bude i koleda…\n\nTěšíme se na Vás 
LOCATION:Blučina
END:VEVENT
END:VCALENDAR