BEGIN:VCALENDAR
VERSION:2.0
CALSCALE:GREGORIAN
PRODID:-//MyApp//Calendar 1.0//EN
BEGIN:VEVENT
METHOD:PUBLISH
UID:17673@regionalniportaly.cz
DTSTAMP:20260425T134122Z
DTSTART;VALUE=DATE:20181109
DTEND;VALUE=DATE:20181110
SUMMARY:Den válečných veteránů
DESCRIPTION:Tradiční pietní vzpomínková akce u pomníku padlých 1. světové války v Rajhradě.\n\n17.30 hod. u kostela Povýšení Svatého Kříže\, Rajhrad\n17.45 hod. lampiónový průvod ke kašně
LOCATION:Rajhrad
END:VEVENT
END:VCALENDAR