BEGIN:VCALENDAR
VERSION:2.0
CALSCALE:GREGORIAN
PRODID:-//MyApp//Calendar 1.0//EN
BEGIN:VEVENT
METHOD:PUBLISH
UID:17677@regionalniportaly.cz
DTSTAMP:20260425T142224Z
DTSTART;VALUE=DATE:20181110
DTEND;VALUE=DATE:20181111
SUMMARY:Výstava kolejových modelů\, železniční techniky a fotografií
DESCRIPTION:Výstava bude probíhat 9. - 10. listopadu 2018 v prostorách Sokolovny v Rajhradě\n\nV sobotu od 15:00 hod. scénka z prostředí nádraží - hřiště Sokolovny\n\nOslava výročí 180 let od první jízdy parní lokomotivy Moravia
LOCATION:Rajhrad
END:VEVENT
END:VCALENDAR