BEGIN:VCALENDAR
VERSION:2.0
CALSCALE:GREGORIAN
PRODID:-//MyApp//Calendar 1.0//EN
BEGIN:VEVENT
METHOD:PUBLISH
UID:32238@regionalniportaly.cz
DTSTAMP:20260422T052335Z
DTSTART;VALUE=DATE:20230908
DTEND;VALUE=DATE:20230910
SUMMARY:Envirofest 2023 - Bečva času
DESCRIPTION:Inspirativní festival končícího léta na krásném místě poblíž řeky Jihlavy.Envirofest 2023 propojuje hudbu a umění s environmentálními tématy.&nbsp\;Cílem akce je nabídnout návštěvníkům atraktivní a kvalitní hudební program a současně je vzdělávat v environmentálních tématech formou přednášek\, diskuzních panelů a workshopů. Hlavními tématy jsou voda\, nakládání s odpady\, udržitelnost\, recyklace\, obnovitelné zdroje a klimatická změna.Počátky našich aktivit jsou v roce 2020\, kdy došlo k otravě řeky Bečvy\, viník stále není odhalen.&nbsp\; Zorganizovali jsme aukci Uměním za obnovu Bečvy\, do které se zapojilo 120 umělců a vybralo se celkem skoro 250 tisíc&nbsp\; (z toho 197 tisíc přímo v aukci) na obnovu řeky. Následoval festival Envirovest Bečva 2021 ve Valašském Meziříčí\, na kterém vystoupil např. Tomáš Klus a Tomáš Kočko. Od loňského roku se soustředíme na osvětu a vzdělávání v oblastech ekologie\, životního prostředí\, udržitelnosti\, apod.
LOCATION:Dolní Kounice
END:VEVENT
END:VCALENDAR