BEGIN:VCALENDAR
VERSION:2.0
CALSCALE:GREGORIAN
PRODID:-//MyApp//Calendar 1.0//EN
BEGIN:VEVENT
METHOD:PUBLISH
UID:32385@regionalniportaly.cz
DTSTAMP:20260421T232336Z
DTSTART;VALUE=DATE:20230505
DTEND;VALUE=DATE:20230506
SUMMARY:Ostrov
DESCRIPTION:
LOCATION:Měnín
END:VEVENT
END:VCALENDAR