BEGIN:VCALENDAR
VERSION:2.0
CALSCALE:GREGORIAN
PRODID:-//MyApp//Calendar 1.0//EN
BEGIN:VEVENT
METHOD:PUBLISH
UID:32389@regionalniportaly.cz
DTSTAMP:20260422T025408Z
DTSTART;VALUE=DATE:20230512
DTEND;VALUE=DATE:20230513
SUMMARY:TŘI MUŠKETÝŘI: D’ARTAGNAN
DESCRIPTION:
LOCATION:Měnín
END:VEVENT
END:VCALENDAR