BEGIN:VCALENDAR
VERSION:2.0
CALSCALE:GREGORIAN
PRODID:-//MyApp//Calendar 1.0//EN
BEGIN:VEVENT
METHOD:PUBLISH
UID:32429@regionalniportaly.cz
DTSTAMP:20260422T052303Z
DTSTART;VALUE=DATE:20230929
DTEND;VALUE=DATE:20230930
SUMMARY:Travesti show TECHTLE MECHTLE - "Dokud nás smrt nerozdělí"
DESCRIPTION:Nejúspěšnější česká travesti show&nbsp\;TECHTLE MECHTLE&nbsp\;přiváží&nbsp\;novou divadelní show\,\,Dokud nás smrt nerozdělí\,\, do Pohořelic&nbsp\;V&nbsp\;dobrém i ve zlém\, dokud nás smrt nerozdělí...&nbsp\;Tuhle větu řekla minimálně jednou za život snad většina z&nbsp\;Vás. Ti odvážnější i vícekrát. Skupina&nbsp\;Techtle Mechtle&nbsp\;si tentokrát ve svém pořadu posvítí na to\, jak vypadá takové manželství po 30-ti letech pod jednou střechou. Jediná dcera už odrostla a z počátečního zamilování a okouzlení jste se už dávno probudili. Život a manželství jsou zkrátka boj a vyhrát musí v&nbsp\;ideálním případě oba. Divadelní show\, ve které se místy budete cítit jako u Vás doma v&nbsp\;obýváku\, míří do Pardubic. Muzikálovo-taneční\, divadelní představení\, ve kterém uvidíte za jeden večer zhruba 80 kostýmů\, propracované taneční choreografie a vtipné scénky z&nbsp\;manželství\, které píše sám život. Skupina&nbsp\;Techtle Mechtle&nbsp\;připravuje každý rok nové představení\, které je vždy jejich vlastní tvorbou\, a to od návrhu kostýmů\, výpravné jevištní scény\, paruk\, dekorací až po samotný scénář celého představení. Pánové&nbsp\;Lukáš\, Martin\, Nikolas a Saša&nbsp\;se svou posádkou míří za Vámi! Show této skupiny ve většině měst bývá vyprodána i několik měsíců dopředu a za poslední roky se těší na poli české divadelní scény stále větší oblibě.&nbsp\;&nbsp\;Více informací naleznete na&nbsp\;www.techtlemechtlerevue.cz&nbsp\;nebo Facebooku: Techtle Mechtle revue – travesti show.
LOCATION:Pohořelice
END:VEVENT
END:VCALENDAR