BEGIN:VCALENDAR
VERSION:2.0
CALSCALE:GREGORIAN
PRODID:-//MyApp//Calendar 1.0//EN
BEGIN:VEVENT
METHOD:PUBLISH
UID:32453@regionalniportaly.cz
DTSTAMP:20260422T013733Z
DTSTART;VALUE=DATE:20231229
DTEND;VALUE=DATE:20231230
SUMMARY:Turbo & Kern - KD Dolní Kounice
DESCRIPTION:Poslední koncert kapely Kern! Po více než 40 letech na hudební scéně kapela Kern oznamuje svůj závěrečný koncert\, který se uskuteční 29. prosince 2023 v Dolních Kounicích.&nbsp\;Kern se stali ikonou české hudby a jejich písně\, jako je "Blízko nás" a "Exploze\," zůstanou v srdcích fanoušků navždy. Tento koncert bude emocionálním a hudebním zážitkem\, který nesmíte minout. Přijďte se připojit k oslavě kariéry kapely Kern na jejich posledním koncertu.&nbsp\;Spolu s touto legendární kapelou vystoupí také kapela Turbo\, která předvede svůj dvouhodinový koncert\, a společně vytvoří celovečerní hudební program plný nezapomenutelných hitů!&nbsp\;&nbsp\;Koncert byl původně plánován na 16. listopadu 2023\, ale z technických důvodů byl přesunut na nový termín 29. prosince 2023. Původní vstupenky zůstávají v platnosti\, a nové vstupenky na tento nový termín jsou k dostání v síti smsticket a v KIC Dolní Kounice.Vzhledem k omezené kapacitě doporučujeme včasný nákup vstupenek\, abyste nezmeškali tuto historickou událost!
LOCATION:Dolní Kounice
END:VEVENT
END:VCALENDAR