BEGIN:VCALENDAR
VERSION:2.0
CALSCALE:GREGORIAN
PRODID:-//MyApp//Calendar 1.0//EN
BEGIN:VEVENT
METHOD:PUBLISH
UID:32956@regionalniportaly.cz
DTSTAMP:20260422T052504Z
DTSTART;VALUE=DATE:20230624
DTEND;VALUE=DATE:20230625
SUMMARY:Annie a Addy - Annie Camel a Adéla Zouharová
DESCRIPTION:Na koncertě zazní známé písně v podání Adély Zouharové a Annie Camel. Vystoupí i TikToker Valchy.Těšit se můžete i na společné TikTok tance a na autogramiádu\, která bude pro všechny na konci vystoupení.Merch bude v prodeji po celou dobu koncertu.
LOCATION:Pohořelice
END:VEVENT
END:VCALENDAR