BEGIN:VCALENDAR
VERSION:2.0
CALSCALE:GREGORIAN
PRODID:-//MyApp//Calendar 1.0//EN
BEGIN:VEVENT
METHOD:PUBLISH
UID:33535@regionalniportaly.cz
DTSTAMP:20260422T052146Z
DTSTART;VALUE=DATE:20230923
DTEND;VALUE=DATE:20230924
SUMMARY:Talkshow o Dakaru 2023 - Martin Macík & František Tomášek
DESCRIPTION:Zažijte jízdu s českým jezdcem rallye\, specialistou na dálkové rallye kamionů\, zejména Rally Dakar Martinem Macíkem a jeho navigátorem Františkem Tomáškem.Bude se povídat a budou se promítat fotky i videa z letošního Dakaru\, na němž posádka Martina Macíka obsadila druhé místo. Večer plný adrenalinu\, písečného prachu a humoru.Martin Macík je český jezdec rallye\, specialista na dálkové rallye kamionů\, zejména Rally Dakar\, kterého se poprvé účastnil už v roce 2013 jako navigátor. Společně se svým otcem Martinem Macíkem st. v roce 2016 založil závodní tým Big Shock!František Tomášek je český automobilový závodník\, navigátor\, několikanásobný účastník Rally Dakar a dalších cross-country rally.
LOCATION:Měnín
END:VEVENT
END:VCALENDAR