BEGIN:VCALENDAR
VERSION:2.0
CALSCALE:GREGORIAN
PRODID:-//MyApp//Calendar 1.0//EN
BEGIN:VEVENT
METHOD:PUBLISH
UID:33547@regionalniportaly.cz
DTSTAMP:20260422T010947Z
DTSTART;VALUE=DATE:20230623
DTEND;VALUE=DATE:20230624
SUMMARY:AC/CZ top AC/DC tribute show + Iron Maiden rev. Praha
DESCRIPTION:pro všechny příznivce rockové hudby pořádá RAFK Rajhrad tribute show AC/DC v podání české revival kapely AC/CZ v čele s kytarovým mágem Adamem Malíkem a předkapelou Iron Maiden revival Praha.Vstupenky jsou v předprodeji v síti Ticketportal.cz á 300Kč (na místě á 400Kč)\n23.6.2023 od 18:30 hod. vstup do areálu RAFK Rajhrad19:30 - 20:30 hod. Iron Maiden revival Praha\, 21:00 - 22:30 hod. AC/CZ.\nPořadatel akce: RAFK Rajhrad\, Tomáš Bábor
LOCATION:Rajhrad
END:VEVENT
END:VCALENDAR