BEGIN:VCALENDAR
VERSION:2.0
CALSCALE:GREGORIAN
PRODID:-//MyApp//Calendar 1.0//EN
BEGIN:VEVENT
METHOD:PUBLISH
UID:34066@regionalniportaly.cz
DTSTAMP:20260422T013745Z
DTSTART;VALUE=DATE:20231104
DTEND;VALUE=DATE:20231105
SUMMARY:Koncert Bohuše Matuše
DESCRIPTION: Obec Přibice a Přibická chasa Vás srdečně zve na koncert BOHUŠE MATUŠE. Zazní známé české a světové hity Karla Gotta\, Waldemara Matušky a dalších.Sobota 4. lisotpadu v 19 hodin v sále komunitního centra v Přibicích. Předprodej vstupenek na www.goout.net
LOCATION:Přibice
END:VEVENT
END:VCALENDAR