BEGIN:VCALENDAR
VERSION:2.0
CALSCALE:GREGORIAN
PRODID:-//MyApp//Calendar 1.0//EN
BEGIN:VEVENT
METHOD:PUBLISH
UID:34179@regionalniportaly.cz
DTSTAMP:20260422T072713Z
DTSTART;VALUE=DATE:20240120
DTEND;VALUE=DATE:20240121
SUMMARY:Hana a Petr Ulrychovi - Javory
DESCRIPTION:
LOCATION:Měnín
END:VEVENT
END:VCALENDAR