BEGIN:VCALENDAR
VERSION:2.0
CALSCALE:GREGORIAN
PRODID:-//MyApp//Calendar 1.0//EN
BEGIN:VEVENT
METHOD:PUBLISH
UID:34522@regionalniportaly.cz
DTSTAMP:20260422T052156Z
DTSTART;VALUE=DATE:20231004
DTEND;VALUE=DATE:20231005
SUMMARY:Nemáš pravdu drahá/ý
DESCRIPTION:Nemáš pravdu drahá/ý - talkshow Veroniky Žilkové a Bořka Slezáčka...aneb o světě šoubyznysu\, vztazích mezi ženami a muži i o tom všem ostatním.Herečtí kolegové Veronika Žilková a Bořek Slezáček se rozhodli vyprávět příběhy ze svého profesního i osobního života\, zážitky ze zákulisí divadel\, filmu a televizních štábů. A že jich je. Proberou i své osobní výhry a prohry\, samozřejmě s&nbsp\;nadhledem\, humorem a sebeironií. To vše v&nbsp\;interaktivní talk show\, ve které se i vy můžete zeptat na cokoliv chcete.
LOCATION:Pohořelice
END:VEVENT
END:VCALENDAR