BEGIN:VCALENDAR
VERSION:2.0
CALSCALE:GREGORIAN
PRODID:-//MyApp//Calendar 1.0//EN
BEGIN:VEVENT
METHOD:PUBLISH
UID:34528@regionalniportaly.cz
DTSTAMP:20260422T032029Z
DTSTART;VALUE=DATE:20231021
DTEND;VALUE=DATE:20231022
SUMMARY:Z pohádky do pohádky
DESCRIPTION:Divadelní přdstavení Z pohádky do pohádky je určeno dětem všech věkových kategorií i jejich rodičům a prarodičům.
LOCATION:Pohořelice
END:VEVENT
END:VCALENDAR