BEGIN:VCALENDAR
VERSION:2.0
CALSCALE:GREGORIAN
PRODID:-//MyApp//Calendar 1.0//EN
BEGIN:VEVENT
METHOD:PUBLISH
UID:34996@regionalniportaly.cz
DTSTAMP:20260422T032123Z
DTSTART;VALUE=DATE:20230915
DTEND;VALUE=DATE:20230916
SUMMARY:To ty nosíš smůlu\, lásko
DESCRIPTION:
LOCATION:Měnín
END:VEVENT
END:VCALENDAR