BEGIN:VCALENDAR
VERSION:2.0
CALSCALE:GREGORIAN
PRODID:-//MyApp//Calendar 1.0//EN
BEGIN:VEVENT
METHOD:PUBLISH
UID:34999@regionalniportaly.cz
DTSTAMP:20260422T050747Z
DTSTART;VALUE=DATE:20231020
DTEND;VALUE=DATE:20231021
SUMMARY:Úsvit
DESCRIPTION:
LOCATION:Měnín
END:VEVENT
END:VCALENDAR