BEGIN:VCALENDAR
VERSION:2.0
CALSCALE:GREGORIAN
PRODID:-//MyApp//Calendar 1.0//EN
BEGIN:VEVENT
METHOD:PUBLISH
UID:35158@regionalniportaly.cz
DTSTAMP:20260424T081451Z
DTSTART;VALUE=DATE:20231123
DTEND;VALUE=DATE:20231124
SUMMARY:Stará láska nerezaví
DESCRIPTION:Manželé v rozvodovém řízení\, jejich milenci a jeden vykutálený sluhaKomedie autora Marca&nbsp\;CamolettihoAdvokát a zubařka -&nbsp\;manželé\, netrpělivě čekají&nbsp\;na ukončeni rozvodového řízení\, aby mohli&nbsp\;začít každý žít svůj život konečně bez toho druhého\, ale oba s novými mladšími partnery.&nbsp\;Bohužel\, pořád obývají společný byt. A tak se stávají svědky nových vášni svých protějšků a začíná pracovat&nbsp\;žárlivost a ...&nbsp\;
LOCATION:Pohořelice
END:VEVENT
END:VCALENDAR