BEGIN:VCALENDAR
VERSION:2.0
CALSCALE:GREGORIAN
PRODID:-//MyApp//Calendar 1.0//EN
BEGIN:VEVENT
METHOD:PUBLISH
UID:35384@regionalniportaly.cz
DTSTAMP:20260422T052228Z
DTSTART;VALUE=DATE:20231021
DTEND;VALUE=DATE:20231022
SUMMARY:Pohořelické Folkobraní
DESCRIPTION:12. ročník oblíbené folkové akcePokud požadujete&nbsp\;konkrétní místa na sezení\,&nbsp\;můžete si je zamluvit v Knihovně Pohořelice\, nebo na tel: 519 424 469.ÚČINKUJÍCÍ:Kamelot:Všechno začalo v Brně v roce 1982. Roman Horký a Radek "Bůček" Michal – dva nadšenci\, kteří založili kapelu a rozhodli se dobýt svět. Život byl o kytarách\, písničkách a hlavně o energii a radosti. Tak vznikla skupina Kamelot. Počáteční tvorba kapely zařadila Kamelot do škatulky "Folk a country"\, kde je hudební skupina zařazena dodnes. Autorem všech textů a skladatelem hudby je zpěvák a leader skupiny Roman Horký\, který je v současné době jediný člen původního Kamelotu.&nbsp\;MášČasBand:&nbsp\;Jsme skupina muzikantů hrajících country\, folk i rock\, takže tu svou písničku si u nás vybere každý. Mrkněte se\,&nbsp\;kde&nbsp\;nás příště můžete vidět a slyšet.Začali jsme hrát v roce 2007 v počtu šesti členů\, v roce 2010 jsme se rozrostli o vlastního zvukaře. V roce 2014 od nás odešel náš banjista\, aby se mohl věnovat svému projektu. Výběr písniček\, které hrajeme\, má dost širokej záběr - od trempských písniček (např. bratři Ryvolové) přes folk (Jarek Nohavica\, Lehká noha) \, country (Bob Dylan\, Greenhorns) a bluegrass(Cop) až po rokové písničky (Kabát\, Kryštof nebo Divokej Bill). A máme i vlastní písničky.
LOCATION:Pohořelice
END:VEVENT
END:VCALENDAR