BEGIN:VCALENDAR
VERSION:2.0
CALSCALE:GREGORIAN
PRODID:-//MyApp//Calendar 1.0//EN
BEGIN:VEVENT
METHOD:PUBLISH
UID:35646@regionalniportaly.cz
DTSTAMP:20260422T052238Z
DTSTART;VALUE=DATE:20231027
DTEND;VALUE=DATE:20231028
SUMMARY:Strašidlo cantervillské
DESCRIPTION:Strašidlo cantervillské
LOCATION:Měnín
END:VEVENT
END:VCALENDAR