BEGIN:VCALENDAR
VERSION:2.0
CALSCALE:GREGORIAN
PRODID:-//MyApp//Calendar 1.0//EN
BEGIN:VEVENT
METHOD:PUBLISH
UID:35694@regionalniportaly.cz
DTSTAMP:20260422T145954Z
DTSTART;VALUE=DATE:20240523
DTEND;VALUE=DATE:20240526
SUMMARY:Euro Bike Fest 2024
DESCRIPTION:16. ročník&nbsp\;největšího československého motofestivalu pro motorkáře i nemotorkáře z&nbsp\;celého světa!
LOCATION:Pasohlávky
END:VEVENT
END:VCALENDAR