BEGIN:VCALENDAR
VERSION:2.0
CALSCALE:GREGORIAN
PRODID:-//MyApp//Calendar 1.0//EN
BEGIN:VEVENT
METHOD:PUBLISH
UID:35741@regionalniportaly.cz
DTSTAMP:20260422T013755Z
DTSTART;VALUE=DATE:20231108
DTEND;VALUE=DATE:20231109
SUMMARY:Zeptej se Švanciho aneb večer s Petrem Švancarou
DESCRIPTION:Talkshow s Petrem ŠvancarouZážitky ze života (Survivor\, stadion za Lužánkami atd.)AutogramiádaFoceníProstor pro dotazy&nbsp\;
LOCATION:Hrušovany u Brna
END:VEVENT
END:VCALENDAR