BEGIN:VCALENDAR
VERSION:2.0
CALSCALE:GREGORIAN
PRODID:-//MyApp//Calendar 1.0//EN
BEGIN:VEVENT
METHOD:PUBLISH
UID:35814@regionalniportaly.cz
DTSTAMP:20260422T013843Z
DTSTART;VALUE=DATE:20231104
DTEND;VALUE=DATE:20231105
SUMMARY:Zase (ti) tupitelé - aneb Kocourkovské zasedání - divadlo
DESCRIPTION:Satirické představení o tom\, co se může přihodit při zasedání&nbsp\;obecního zastupitelstva v jedné nejmenované obci.
LOCATION:Měnín
END:VEVENT
END:VCALENDAR