BEGIN:VCALENDAR
VERSION:2.0
CALSCALE:GREGORIAN
PRODID:-//MyApp//Calendar 1.0//EN
BEGIN:VEVENT
METHOD:PUBLISH
UID:36401@regionalniportaly.cz
DTSTAMP:20260422T035239Z
DTSTART;VALUE=DATE:20231117
DTEND;VALUE=DATE:20231118
SUMMARY:Esa z pralesa 2: Světové dobrodružství
DESCRIPTION:
LOCATION:Měnín
END:VEVENT
END:VCALENDAR