BEGIN:VCALENDAR
VERSION:2.0
CALSCALE:GREGORIAN
PRODID:-//MyApp//Calendar 1.0//EN
BEGIN:VEVENT
METHOD:PUBLISH
UID:36599@regionalniportaly.cz
DTSTAMP:20260422T094549Z
DTSTART;VALUE=DATE:20240127
DTEND;VALUE=DATE:20240128
SUMMARY:Zimní festival vína
DESCRIPTION:Vinné sklepy budou otevřeny od 10:00 hod. do 19:00 hod.\, vychutnáte si skvělá vína od&nbsp\;němčičských vinařů a k chuťi přijdou vhod&nbsp\;i tradiční zimní místní pochutiny. Nebude chybět ani soutěž o nejlepší svařák.Večerní (Ne)vinnou after párty v kulturním domě zahájíme v 19:00 hod.. Můžete se těšit na nejlepšího DJ z jižní Moravy a na bohatě zásobený nejen vinný bar.Cena vstupenky na večerní (Ne)vinnou párty: Kč 100\,--Cena vstupenky na otevřené sklepy: Kč 800\,--A co tedy vstupenka obsahuje? ...neomezenou degustaci vzorků vín během otevřených sklepů\, skleničku\, kapsičku&nbsp\;na skleničku\, mapku\, propisku\, 200\,-Kč kupón na jídlo či víno.Výhodný předprodej vstupenek za cenu Kč 700\,-- naleznete&nbsp\;(připravuje se)VÝDEJ VSTUPENEKVýdej vstupenek na místě bez předprodeje a online zakoupených vstupenek bude probíhat&nbsp\;v den akce 27. 1. 2024\, na těchto dvou místech:- JLT Rodinné vinařství Procházkovi\, Němčičky 266\, od 10hod.- vinařství Kryptowine\, Němčičky 9\, od 10hod.PS: i v neděli 30. ledna bude možné uplatnit ve vinařstvích a vinných sklepech kupony v hodnotě Kč 200\,-- na případný nákup vín. a to dopoledne od 10hod. do 12hod..&nbsp\;KONTAKTY NA TAXISLUŽBY:774211882\, 774211883\, 730690590\, 775144355\, 777766355\, 775022521\, 728886447\, 774588999\, 602570202\, 775100155\, 602703929\, 606505333\, 602506607\, 608375027\, 776466769\, 773011773Těšíme se na vás.&nbsp\;
LOCATION:Němčičky
END:VEVENT
END:VCALENDAR