BEGIN:VCALENDAR
VERSION:2.0
CALSCALE:GREGORIAN
PRODID:-//MyApp//Calendar 1.0//EN
BEGIN:VEVENT
METHOD:PUBLISH
UID:36663@regionalniportaly.cz
DTSTAMP:20260422T034942Z
DTSTART;VALUE=DATE:20231212
DTEND;VALUE=DATE:20231213
SUMMARY:Vánoční koncert - Vzpomínka na Věru Špinarovou
DESCRIPTION:Vánoční koncert - Vzpomínka na Věru ŠpinarovouKoncertní pásmo složené z písní Věry Špinarové\, rodačky z Pohořelic\,&nbsp\;a nejslavnějších hitů minulých let&nbsp\;v podání zpěvačky&nbsp\; Ellen Lenské a jejího BanduVstupenky v předprodeji zde a v knihovně města Pohořelice\, Brněnská 2V sále bude zajištěno sezení u stolů - konkrétní místa si návštěvcníci vyberou po příchodu.
LOCATION:Pohořelice
END:VEVENT
END:VCALENDAR