BEGIN:VCALENDAR
VERSION:2.0
CALSCALE:GREGORIAN
PRODID:-//MyApp//Calendar 1.0//EN
BEGIN:VEVENT
METHOD:PUBLISH
UID:36704@regionalniportaly.cz
DTSTAMP:20260422T052315Z
DTSTART;VALUE=DATE:20240203
DTEND;VALUE=DATE:20240204
SUMMARY:Strašidelný karneval pro děti
DESCRIPTION:Zveme všechny malé děti a také dospěláky na velký strašidelný&nbsp\;karneval pro děti\, který&nbsp\;se uskuteční v sobotu 3.2.2024 v klubu Oáaza na koupališti&nbsp\;v&nbsp\;Židlochovicích.Po velkém úspěchu naší říjnové halloweenské party&nbsp\;a protože děti milují strašidla jsme se rozhodli uspořádat ještě jednu akci a tentokrát ve vnitřních prostorách koupaliště\, které proměníme ve strašidelný pohádkový zámek se spoustou dekorací.Připraven máme bohatý program s velkou strašidelňáckou diskotékou\, na kterou dorazí naše nejoblíbenější pohádkové postavičky&nbsp\;v čele s našim novým kamarádem dráčkem Charlim :)Dorazí Chase a Marshall z tlapkové patroly\, myška Minnie\, myšák Micky\, Mario\, Oláfek\, Koumák a ježek Sonic.A co nás ještě čeká:Diskotéka s postavičkamiSpousta dekorací ve stylu strašidelného zámkuVelká terasa s posezením a strašidliStrašidelný fotokoutekMalování na obličej ... placenéFocení s Grinchem\, hrabětem Drákulou a FrankenstainemVýrobník bublinSoutěže o dárkySoutěž o nejlepší masku/kostýmObchůdek s dárečkyObčerstvení - (párky v rohlíku\, sladkosti a brambůrky\, nápoje atd.)&nbsp\;... a další překvápkaVSTUPNÉ: pouze omezený počet vstupenekVstupné v předprodeji 140 Kč/osobaVstupné na místě 180 Kč / osobaZačátek akce v 15:00\, prostory otevřeny od 14:00Akci pořádá Diskoproděti ve spolupráci s Městem Židlochovice a koupalištěm Města Židlochovice
LOCATION:Vojkovice
END:VEVENT
END:VCALENDAR