BEGIN:VCALENDAR
VERSION:2.0
CALSCALE:GREGORIAN
PRODID:-//MyApp//Calendar 1.0//EN
BEGIN:VEVENT
METHOD:PUBLISH
UID:37675@regionalniportaly.cz
DTSTAMP:20260422T165852Z
DTSTART;VALUE=DATE:20241018
DTEND;VALUE=DATE:20241019
SUMMARY:Techtle Mechtle  - Travesti revue - All inclusive Bibione
DESCRIPTION:Oblíbená travesti revue Techtle Mechtle&nbsp\;https://www.techtlemechtlerevue.cz/
LOCATION:Pohořelice
END:VEVENT
END:VCALENDAR