BEGIN:VCALENDAR
VERSION:2.0
CALSCALE:GREGORIAN
PRODID:-//MyApp//Calendar 1.0//EN
BEGIN:VEVENT
METHOD:PUBLISH
UID:37931@regionalniportaly.cz
DTSTAMP:20260422T072723Z
DTSTART;VALUE=DATE:20240215
DTEND;VALUE=DATE:20240216
SUMMARY:Divadelní představení Rukojmí bez rizika
DESCRIPTION:Pytel uloupených peněz dokáže oživit i sebevraha.&nbsp\;Jenže policii taky.Francouzská komedie s kriminální příchutí.&nbsp\;Osoby a obsazení&nbsp\; &nbsp\; &nbsp\; &nbsp\;&nbsp\;&nbsp\; &nbsp\; &nbsp\; &nbsp\; &nbsp\; &nbsp\;&nbsp\;Marc Besson - spisovatel románů pro ženy&nbsp\;Václav Vydra&nbsp\;Luc - jeho přítel\, milovník dívčích srdcí Jan Šťastný&nbsp\;Madame Mabouin – o všem informovaná domovnice&nbsp\;Jana Boušková / Jana Malá / Marcela Peňázová&nbsp\;&nbsp\;Jojo - šéf lupičské bandy&nbsp\;Martin Zahálka&nbsp\; / Matin Davídek&nbsp\;Suzy - ozdoba zlodějského tria&nbsp\;Lenka Zahradnická / Barbora Šťastná / Kateřina PetrováBanán – lidožrout vegetarián a také lupič&nbsp\;František&nbsp\;Skopal / Martin Zahálka ml.Režie&nbsp\;Jan NovákPřeklad&nbsp\;Jiří ŽákScéna&nbsp\;Michal HessVýtvarná spolupráce&nbsp\;Renáta ŠtefkováKostýmy&nbsp\;Josef Jelínek&nbsp\;Kostymérka&nbsp\;Helena Konarovská\, Petra Masopustová&nbsp\;Technická spolupráce&nbsp\;Lubomír Loubal\, Jiří Beneš\, Aleš Hanzlíček\, Petr Mrázek\, Václav SkalníkDélka představení s přestávkou cca 2 hodiny
LOCATION:Pohořelice
END:VEVENT
END:VCALENDAR