BEGIN:VCALENDAR
VERSION:2.0
CALSCALE:GREGORIAN
PRODID:-//MyApp//Calendar 1.0//EN
BEGIN:VEVENT
METHOD:PUBLISH
UID:38538@regionalniportaly.cz
DTSTAMP:20260422T032018Z
DTSTART;VALUE=DATE:20240216
DTEND;VALUE=DATE:20240217
SUMMARY:Sucho
DESCRIPTION:
LOCATION:Měnín
END:VEVENT
END:VCALENDAR