BEGIN:VCALENDAR
VERSION:2.0
CALSCALE:GREGORIAN
PRODID:-//MyApp//Calendar 1.0//EN
BEGIN:VEVENT
METHOD:PUBLISH
UID:38872@regionalniportaly.cz
DTSTAMP:20260422T092302Z
DTSTART;VALUE=DATE:20240411
DTEND;VALUE=DATE:20240412
SUMMARY:Divadelní představení Co na srdci
DESCRIPTION:Třeskutě výživná komedie ze života. Jednoho dne se u&nbsp\;společné večeře a&nbsp\;spousty vína potkají dva manželské páry. Zanedlouho se toho ukáže víc\, než jak to kdokoli plánoval. Nebo že by to bylo všechno jinak...?
LOCATION:Pohořelice
END:VEVENT
END:VCALENDAR