BEGIN:VCALENDAR
VERSION:2.0
CALSCALE:GREGORIAN
PRODID:-//MyApp//Calendar 1.0//EN
BEGIN:VEVENT
METHOD:PUBLISH
UID:38900@regionalniportaly.cz
DTSTAMP:20260422T092500Z
DTSTART;VALUE=DATE:20240322
DTEND;VALUE=DATE:20240323
SUMMARY:Sladký život
DESCRIPTION:
LOCATION:Měnín
END:VEVENT
END:VCALENDAR