BEGIN:VCALENDAR
VERSION:2.0
CALSCALE:GREGORIAN
PRODID:-//MyApp//Calendar 1.0//EN
BEGIN:VEVENT
METHOD:PUBLISH
UID:39112@regionalniportaly.cz
DTSTAMP:20260422T111549Z
DTSTART;VALUE=DATE:20240515
DTEND;VALUE=DATE:20240519
SUMMARY:FH-DCE Super Rally®
DESCRIPTION:FH-DCE Super Rally® will take place on 15-19 May 2024 in the Czech Republic (ATC Merkur\, Pasohlávky). The price of EUR 85.00 includes entrance to the venue for one person and motorcycle\, camping in a tent\, 4 breakfasts and an entertainment programme that will take place in the venue.For more\, visit&nbsp\;www.super-rally.cz.
LOCATION:Pasohlávky
END:VEVENT
END:VCALENDAR