BEGIN:VCALENDAR
VERSION:2.0
CALSCALE:GREGORIAN
PRODID:-//MyApp//Calendar 1.0//EN
BEGIN:VEVENT
METHOD:PUBLISH
UID:39203@regionalniportaly.cz
DTSTAMP:20260422T111247Z
DTSTART;VALUE=DATE:20240302
DTEND;VALUE=DATE:20240303
SUMMARY:Ochutnávka vín / Moravské Bránice
DESCRIPTION:Zveme Vás na XVII. ročník tradiční&nbsp\;Ochutnávky&nbsp\;vín v Moravských Bránicích.Jedná se o&nbsp\;prezentaci&nbsp\;vín především z&nbsp\;dolnokounické oblasti\, ale i&nbsp\;z širšího okolí. K&nbsp\;degustaci je připraveno 429&nbsp\;vzorků vín:&nbsp\;142 červených vín\, 32 rosé a 255 bílých vínVýstava proběhne v místní sokolovně. Sokolovna bude otevřena již od 13:00\, nalévat ale začneme&nbsp\;ve 14:00. K tanci a poslechu bude hrát cimbálová muzika Donava.&nbsp\;Občerstvení zajišťuje&nbsp\;T.J. Sokol\, oddíl kopané&nbsp\;(dobroty z udírny\, sýrové talíře a další).Cena vstupenky: na místě: 450&nbsp\;Kč / v předprodeji: 400&nbsp\;KčV ceně: neomezená degustace vín\,&nbsp\;sklenička a&nbsp\;katalog.Vstupenky jsou slosovatelné.Program:14:00 Zahájení ochutnávky16:00 Cimbálová muzika17:00&nbsp\;Vyhlášení šampionů\, slosování vstupenek21:00 Ukončení ochutnávky&nbsp\;Srdečně zvou bráničtí zahrádkáři!
LOCATION:Moravské Bránice
END:VEVENT
END:VCALENDAR