BEGIN:VCALENDAR
VERSION:2.0
CALSCALE:GREGORIAN
PRODID:-//MyApp//Calendar 1.0//EN
BEGIN:VEVENT
METHOD:PUBLISH
UID:39588@regionalniportaly.cz
DTSTAMP:20260422T111149Z
DTSTART;VALUE=DATE:20240529
DTEND;VALUE=DATE:20240530
SUMMARY:Travesti Divoké kočky
DESCRIPTION:Travesti skupina Divoké kočky z Ostravy přijíždí se svým novým programem opět do města Pohořelice\, kde vystoupí 29.5.2024 v 19:00 na velkém sále Radnice pro své věrné publikum a diváky ze širokého okolí. Divoké kočky již v Pohořelicích učinkovali\, a tak se můžete těšit na jejich nový celovečerní&nbsp\;zábavný program\, který je&nbsp\;plný nezapomenutelných legračních scének\, písniček\, známých zpěvaček\, krásných kostýmů\, situačního humoru a hlavně smíchu. Každý divák si přijde na své. Na konci představení se Vám pánové Martin\, Marek a Jindra v programu odhalí\, jak skutečně vypadají. Přijdte se sami přesvědčit\, že na travesti představení není nic špatného a v podání ostravských umělců se budete určitě dobře bavit. Stolová úprava sezení\, občerstvení je zajištěno.
LOCATION:Pohořelice
END:VEVENT
END:VCALENDAR