BEGIN:VCALENDAR
VERSION:2.0
CALSCALE:GREGORIAN
PRODID:-//MyApp//Calendar 1.0//EN
BEGIN:VEVENT
METHOD:PUBLISH
UID:39700@regionalniportaly.cz
DTSTAMP:20260422T092139Z
DTSTART;VALUE=DATE:20240317
DTEND;VALUE=DATE:20240318
SUMMARY:Kino - Nerozlučná dvojka
DESCRIPTION:Nerozlučná dvojkaAnimovaný / Dobrodružný / RodinnýFrancie / Španělsko / Belgie\,&nbsp\;2023\,&nbsp\;88 minRežie: Jérémie DegrusonHudba: Puggy&nbsp\;Obsah:Když ve starém divadle v Central parku zhasnou světla\, teprve pak všechny loutky doopravdy ožívají. Mezi nimi i dobrácký rytíř Don\, kterého už nebaví pořád dokola hrát blázna. Sní o tom\, že se stane skutečným hrdinou! Jednoho dne sebere odvahu žít svůj vlastní život a vydává se objevit velký svět.V parku mu náhodou zkříží cestu DJ Doggie Dog\, opuštěný plyšák\, který se chce stát rapperskou hvězdou. To\, že je Doggie tak trochu strašpytel\, který neustále opakuje předem nahrané fráze\, přece nemůže být překážkou. V očích Dona určitě ne!Každý totiž může změnit své sny ve skutečnost\, když se nevzdá.A na dva čerstvé kamarády čeká za branami parku mnohem větší dobrodružství\, než o jakém kdy snili!Od scenáristů Toy story přichází napínavý rodinný příběh o tom\, že přátelství je tím největším dobrodružstvím v životě a i ty nejmenší postavy mohou hrát hrdinské role.
LOCATION:Pohořelice
END:VEVENT
END:VCALENDAR