BEGIN:VCALENDAR
VERSION:2.0
CALSCALE:GREGORIAN
PRODID:-//MyApp//Calendar 1.0//EN
BEGIN:VEVENT
METHOD:PUBLISH
UID:39792@regionalniportaly.cz
DTSTAMP:20260422T111157Z
DTSTART;VALUE=DATE:20240303
DTEND;VALUE=DATE:20240304
SUMMARY:Noemova archa
DESCRIPTION:Animovaný&nbsp\;film Noemova Archa&nbsp\;vypráví známý biblický příběh z perspektivy dvou myšáků.
LOCATION:Měnín
END:VEVENT
END:VCALENDAR