BEGIN:VCALENDAR
VERSION:2.0
CALSCALE:GREGORIAN
PRODID:-//MyApp//Calendar 1.0//EN
BEGIN:VEVENT
METHOD:PUBLISH
UID:40104@regionalniportaly.cz
DTSTAMP:20260422T110601Z
DTSTART;VALUE=DATE:20240420
DTEND;VALUE=DATE:20240421
SUMMARY:Folklorní jaro
DESCRIPTION:Rádi bychom vás pozvali na novou\, svěží událost - Folklorní jaro\n \nV rámci akce proběhne:\n \n- Krojovaný průvod městem Dolní Kounice ve 14:00 od kulturního domu ke klášteru Rosa coeli a zpět.\n- Prezentace (taneční vystoupení) folklorních spolků a chas v 15:00 v kulturním domě.\nMůžete se těšit na tanečníky z:\n\nDolních Kounic\nKetkovic\nTroubska\nOřechova\nRosic\nMoravských Knínic\nÚjezdu u Brna\nKyjova...\n\n- Taneční zábava s CM Ivo Farkaše v 18:00 v kulturním domě.\n \nVstupné na celodenní program je 150 Kč\nVstupné pouze na večerní zábavu je 100 Kč\n \nBudeme rádi\, když se přijdete podívat\, zatančit si\, nebo třeba jen posedět\, popovídat si a dát si u toho něco dobrého.\n \nTěšíme se! \nDolnokounická chasa
LOCATION:Dolní Kounice
END:VEVENT
END:VCALENDAR