BEGIN:VCALENDAR
VERSION:2.0
CALSCALE:GREGORIAN
PRODID:-//MyApp//Calendar 1.0//EN
BEGIN:VEVENT
METHOD:PUBLISH
UID:40438@regionalniportaly.cz
DTSTAMP:20260422T111352Z
DTSTART;VALUE=DATE:20240412
DTEND;VALUE=DATE:20240413
SUMMARY:Jeden život
DESCRIPTION:
LOCATION:Měnín
END:VEVENT
END:VCALENDAR