BEGIN:VCALENDAR
VERSION:2.0
CALSCALE:GREGORIAN
PRODID:-//MyApp//Calendar 1.0//EN
BEGIN:VEVENT
METHOD:PUBLISH
UID:40440@regionalniportaly.cz
DTSTAMP:20260422T110217Z
DTSTART;VALUE=DATE:20240426
DTEND;VALUE=DATE:20240427
SUMMARY:Fantastická parta
DESCRIPTION:
LOCATION:Měnín
END:VEVENT
END:VCALENDAR