BEGIN:VCALENDAR
VERSION:2.0
CALSCALE:GREGORIAN
PRODID:-//MyApp//Calendar 1.0//EN
BEGIN:VEVENT
METHOD:PUBLISH
UID:40683@regionalniportaly.cz
DTSTAMP:20260422T111306Z
DTSTART;VALUE=DATE:20240403
DTEND;VALUE=DATE:20240404
SUMMARY:Networking Coffee v Lístek.Kafe v Rajhradě u Brna
DESCRIPTION:Pojďme společně rozhodit své sítě a zalovit ve vodách nekonečných kontaktů a možností. Setkejme se při dobré kávě a jiných dobrotách v nové kavárně Lístek.Kafé v Rajhradě u Brna.&nbsp\; Ať už hledáte konkrétní kontakty nebo jen inspiraci\, věříme\, že toto komorní networkingové setkání pro vás může být velkou inspirací a přínosem. A stejně tak i vy obohatíte toto setkání svou účastí.Ať už patříte mezi zkušené networkery nebo se jedná spíše o vaši premiéru\, přijďte navázat nové kontakty\, sdílet reference\, kontakty\, doporučení\, ale i znalosti a tipy\, jak snadněji a radostněji tvořit i pracovat.&nbsp\;Jak bude networkingové setkání probíhat?Jednou měsíčně\, vždy ve středu 8:30 - 10:30 hodin\, se setkáme nad kávou s tématem\, který bude mít i svého hosta.&nbsp\;Dubnovým hostem bude laskavá koučka Jasna Flamiková\, která se s námi ponoří do nyní často skloňovaných termínů terapeut\, kouč\, mentor\, mastermind\, masterclass. Pobavíme se o tom\, s čím vám můžou pomoci a kde vás můžou naopak svést na scestí\, na co si dávat pozor při výběru. Odnesete si krátké cvičení\, které budete moci aplikovat při řešení problémů spojených s podnikáním.Květnovým hostem bude Kateřina Bilíková\, která nás provede tématem Myšlenkové mapy a práce s nimi.Program:od 8:00 Volný příchod\, poklidné objednání kávy8:30 - 10:00 Hlavní program10:00 - 10:30 Networking či meeting 1:1\, pokud vás na setkání někdo natolik zaujme\, máte i prostor jít do hlubší debatyV případě velkého zájmu rádi přidáme další termín.Akci ve spolupráci s Lístek.Kafé pořádá KAVA.TEAM a RajHRADhry.Těší se na vás Kačka Eichi Bilíková a Lucie Bulová&nbsp\;
LOCATION:Rajhrad
END:VEVENT
END:VCALENDAR