BEGIN:VCALENDAR
VERSION:2.0
CALSCALE:GREGORIAN
PRODID:-//MyApp//Calendar 1.0//EN
BEGIN:VEVENT
METHOD:PUBLISH
UID:40925@regionalniportaly.cz
DTSTAMP:20260422T111326Z
DTSTART;VALUE=DATE:20240621
DTEND;VALUE=DATE:20240623
SUMMARY:Festival KEFASFEST
DESCRIPTION:Torzo kamenných stěn původního chrámu\, rajská zahrada porostlá břečťanem\, klenuté chodby kamenných zdí a sluneční paprsky prodírající se okénky… Romantické prostředí bývalého kláštera Rosa Coeli nedaleko Brna vás strhne svojí krásnou atmosférou. A na konci června máte možnost si v tomto krásném prostředí vychutnat i hudební zážitek!&nbsp\;21.–23. 6. 2024&nbsp\;se zde bude konat už 12. ročník festivalu Kefasfest. Můžete si odpočinout při poslechu skvělých hudebníků\, užít si zábavu s kamarády třeba během vodní bitvy\, dozvědět se něco na zajímavých přednáškách nebo vyzkoušet lákavé workshopy.Jedná se o křesťanský festival pro mládež s bohatým programem plným hudby\, sportovních aktivit a kreativních workshopů. Program doplňují výstavy\, filmy\, divadlo a přednášky na aktuální témata.Kefasfest je „alkohol free“. Mladým lidem chceme ukázat\, že bavit se lze i bez alkoholu a drog.
LOCATION:Dolní Kounice
END:VEVENT
END:VCALENDAR