BEGIN:VCALENDAR
VERSION:2.0
CALSCALE:GREGORIAN
PRODID:-//MyApp//Calendar 1.0//EN
BEGIN:VEVENT
METHOD:PUBLISH
UID:41041@regionalniportaly.cz
DTSTAMP:20260422T111639Z
DTSTART;VALUE=DATE:20240608
DTEND;VALUE=DATE:20240609
SUMMARY:Na cestě s mámou
DESCRIPTION:
LOCATION:Měnín
END:VEVENT
END:VCALENDAR