BEGIN:VCALENDAR
VERSION:2.0
CALSCALE:GREGORIAN
PRODID:-//MyApp//Calendar 1.0//EN
BEGIN:VEVENT
METHOD:PUBLISH
UID:41494@regionalniportaly.cz
DTSTAMP:20260422T111434Z
DTSTART;VALUE=DATE:20240524
DTEND;VALUE=DATE:20240525
SUMMARY:Furiosa: Sága Šíleného Maxe
DESCRIPTION:
LOCATION:Měnín
END:VEVENT
END:VCALENDAR