BEGIN:VCALENDAR
VERSION:2.0
CALSCALE:GREGORIAN
PRODID:-//MyApp//Calendar 1.0//EN
BEGIN:VEVENT
METHOD:PUBLISH
UID:42095@regionalniportaly.cz
DTSTAMP:20260422T130251Z
DTSTART;VALUE=DATE:20240531
DTEND;VALUE=DATE:20240601
SUMMARY:Imaginární přátelé
DESCRIPTION:
LOCATION:Měnín
END:VEVENT
END:VCALENDAR