BEGIN:VCALENDAR
VERSION:2.0
CALSCALE:GREGORIAN
PRODID:-//MyApp//Calendar 1.0//EN
BEGIN:VEVENT
METHOD:PUBLISH
UID:42187@regionalniportaly.cz
DTSTAMP:20260422T111602Z
DTSTART;VALUE=DATE:20240613
DTEND;VALUE=DATE:20240614
SUMMARY:Hoď se do Pogody
DESCRIPTION:Vtipná i vážná SANDRA POGODOVÁ\, ve&nbsp\;čtvrtek 13.června&nbsp\;na PASTUŠCE od sedmy vážně vtipná ! :-).Přijďte s dostatečným předstihem\, získáte&nbsp\;čas na sklénku vína\, výbornou kávu či koláček !Potom od sedmy přivítáme stále vysmátou Sandru\, která má vždy&nbsp\;co říct! Vtipné vyprávění a čtení z povídkových bestselerů s následující autogramiádou.Při pěkném počasí se vše odehraje venku. V opačném&nbsp\;případě máme připraveny vnitřní prostory roubenky.Varianta sezení bezmístenková. Svá místa si můžete sami vybrat včasným příchodem :-).Těšíme se na Vás!!Již nyní jsme tu na pogodu v&nbsp\;příjemném prostředí Penzionu&nbsp\;Pastuška&nbsp\;www.pastuska.cz&nbsp\;
LOCATION:Brod nad Dyjí
END:VEVENT
END:VCALENDAR